BEGIN:VCALENDAR
VERSION:2.0
PRODID:-//Odpady - ECPv6.14.2//NONSGML v1.0//EN
CALSCALE:GREGORIAN
METHOD:PUBLISH
X-WR-CALNAME:Odpady
X-ORIGINAL-URL:https://odpady-online.cz
X-WR-CALDESC:Akce na Odpady
REFRESH-INTERVAL;VALUE=DURATION:PT1H
X-Robots-Tag:noindex
X-PUBLISHED-TTL:PT1H
BEGIN:VTIMEZONE
TZID:Europe/Prague
BEGIN:DAYLIGHT
TZOFFSETFROM:+0100
TZOFFSETTO:+0200
TZNAME:CEST
DTSTART:20130331T010000
END:DAYLIGHT
BEGIN:STANDARD
TZOFFSETFROM:+0200
TZOFFSETTO:+0100
TZNAME:CET
DTSTART:20131027T010000
END:STANDARD
BEGIN:DAYLIGHT
TZOFFSETFROM:+0100
TZOFFSETTO:+0200
TZNAME:CEST
DTSTART:20140330T010000
END:DAYLIGHT
BEGIN:STANDARD
TZOFFSETFROM:+0200
TZOFFSETTO:+0100
TZNAME:CET
DTSTART:20141026T010000
END:STANDARD
END:VTIMEZONE
BEGIN:VEVENT
DTSTART;TZID=Europe/Prague:20140604T100000
DTEND;TZID=Europe/Prague:20140605T160000
DTSTAMP:20260424T123142
CREATED:20220510T110440Z
LAST-MODIFIED:20220510T110440Z
UID:104574-1401876000-1401984000@odpady-online.cz
SUMMARY:Zahradní a komunální technika v akci
DESCRIPTION:a:3:{s:7:"address";s:25:"Výdušná ulice\, Ostrava";s:3:"lat";s:10:"49.8722216";s:3:"lng";s:18:"18.278906300000017";} \nChlebiš\, zahradní a komunální technika\nwww.chlebis.cz
URL:https://odpady-online.cz/udalost/zahradni-a-komunalni-technika-v-akci-2/
END:VEVENT
BEGIN:VEVENT
DTSTART;TZID=Europe/Prague:20140603T100000
DTEND;TZID=Europe/Prague:20140603T160000
DTSTAMP:20260424T123142
CREATED:20220510T110440Z
LAST-MODIFIED:20220510T110440Z
UID:104575-1401789600-1401811200@odpady-online.cz
SUMMARY:Den s technikou
DESCRIPTION:a:3:{s:7:"address";s:43:"Malostranská 41\, Šenov u Nového Jičína";s:3:"lat";s:10:"49.6121517";s:3:"lng";s:17:"17.99818110000001";} \nSDO Technika s.r.o.\nhttp://www.sdotechnika.cz/kontakt-spolecnosti
URL:https://odpady-online.cz/udalost/den-s-technikou-2/
END:VEVENT
BEGIN:VEVENT
DTSTART;TZID=Europe/Prague:20140515T090000
DTEND;TZID=Europe/Prague:20140516T150000
DTSTAMP:20260424T123142
CREATED:20220510T110430Z
LAST-MODIFIED:20220510T110430Z
UID:104573-1400144400-1400252400@odpady-online.cz
SUMMARY:DNY KOMUNÁLNÍ TECHNIKY KIOTI
DESCRIPTION:Dny komunální techniky se v areálu společnosti P & L ve Velkém Meziříčí uskuteční již potřetí. Traktory KIOTI zde mají svoji velkou základnu pro celou ČR a SR. Představíme tři zcela nové modelové řady traktorů KIOTI série NX\, RX\, a PX. Jedná se o užitkové\, komunální a zemědělské traktory s výkonem od 20 do 90 koní. Všechny traktory si budete moci detailně prohlédnout a osobně vyzkoušet. Nové traktory KIOTI se vyznačují nejen všestranností a spolehlivostí\, ale i komfortní kabinou a novým moderním designem. \na:3:{s:7:"address";s:38:"Třebíčská 74b\, Velké Meziříčí";s:3:"lat";s:10:"49.3465919";s:3:"lng";s:17:"15.99285359999999";} \nP & L spol. s r. o.\nkmicankova&pal.cz\nKateřina Mičánková
URL:https://odpady-online.cz/udalost/dny-komunalni-techniky-kioti-2/
END:VEVENT
BEGIN:VEVENT
DTSTART;TZID=Europe/Prague:20140514T090000
DTEND;TZID=Europe/Prague:20140518T170000
DTSTAMP:20260424T123142
CREATED:20220510T110234Z
LAST-MODIFIED:20220510T110234Z
UID:104442-1400058000-1400432400@odpady-online.cz
SUMMARY:HOBBY
DESCRIPTION:Výstaviště České Budějovice a.s.\nwww.vcb.cz\, info@vcb.cz\, 387 714 911 Web: www.vcb.cz
URL:https://odpady-online.cz/udalost/hobby-2/
END:VEVENT
BEGIN:VEVENT
DTSTART;TZID=Europe/Prague:20140311T090000
DTEND;TZID=Europe/Prague:20140312T150000
DTSTAMP:20260424T123142
CREATED:20220510T110430Z
LAST-MODIFIED:20220510T110430Z
UID:104572-1394528400-1394636400@odpady-online.cz
SUMMARY:Dny otevřených dveří společnosti Agrometall
DESCRIPTION:Agrometall_pozvanka-OK \nŠiroká nabídka zemědělské\, komunální a zahradní techniky \na:3:{s:7:"address";s:35:"Nový Dvůr 938\, Heřmanův Městec";s:3:"lat";s:10:"49.9463895";s:3:"lng";s:17:"15.68398830000001";} \nAgrometall\, s. r. o.\nwww.agrometall.cz
URL:https://odpady-online.cz/udalost/dny-otevrenych-dveri-spolecnosti-agrometall-3/
END:VEVENT
BEGIN:VEVENT
DTSTART;TZID=Europe/Prague:20140221T090000
DTEND;TZID=Europe/Prague:20140221T150000
DTSTAMP:20260424T123142
CREATED:20220510T110430Z
LAST-MODIFIED:20220510T110430Z
UID:104568-1392973200-1392994800@odpady-online.cz
SUMMARY:PEKASS FORUM 2014
DESCRIPTION:PEKASS FORUM 2014 vás seznámí jak s novinkami\, tak s ověřenými modely zemědělské\, komunální či silniční techniky. Celým dnem vás bude provázet šarmantní moderátorka Hanka Koutná. Nebude chybět bohatý doprovodný program ani odborné přednášky. Na registrované čeká drobné občerstvení a tombola! \nVíce na internetové stránce www.pekassforum.eu \na:3:{s:7:"address";s:31:"PVA EXPO PRAHA\, Beranových 667";s:3:"lat";s:10:"50.1297238";s:3:"lng";s:17:"14.51416340000003";} \nPEKASS a.s.\nPřátelství 987\nPraha 10 - Uhříněves\nPSČ: 10400\ntel.: 775850358
URL:https://odpady-online.cz/udalost/pekass-forum-2014-4/
END:VEVENT
BEGIN:VEVENT
DTSTART;TZID=Europe/Prague:20140218T090000
DTEND;TZID=Europe/Prague:20140221T150000
DTSTAMP:20260424T123142
CREATED:20220510T110430Z
LAST-MODIFIED:20220510T110430Z
UID:104571-1392714000-1392994800@odpady-online.cz
SUMMARY:Jarní výstavní dny SOME
DESCRIPTION:some_pozvanka \nPřehlídka zemědělské\, komunální a lesní techniky \na:3:{s:7:"address";s:48:"Jarošovská 1267/II\, 377 01 Jindřichův Hradec";s:3:"lat";s:10:"49.1515067";s:3:"lng";s:18:"15.014828299999976";} \nSOME JH\, s. r. o.\nwww.somejh.cz
URL:https://odpady-online.cz/udalost/jarni-vystavni-dny-some-2/
END:VEVENT
BEGIN:VEVENT
DTSTART;TZID=Europe/Prague:20131205T083000
DTEND;TZID=Europe/Prague:20131205T170000
DTSTAMP:20260424T123142
CREATED:20220510T110234Z
LAST-MODIFIED:20220510T110234Z
UID:104436-1386232200-1386262800@odpady-online.cz
SUMMARY:Větrná energie v ČR 2013
DESCRIPTION:B.I.D. services s.r.o. (www.bids.cz)\nHelena Sochrová\, manažer konference: helena.sochrova@bids.cz\,  +420 737 461 336
URL:https://odpady-online.cz/udalost/vetrna-energie-v-cr-2013-2/
END:VEVENT
BEGIN:VEVENT
DTSTART;TZID=Europe/Prague:20131205T083000
DTEND;TZID=Europe/Prague:20131205T170000
DTSTAMP:20260424T123142
CREATED:20220510T110234Z
LAST-MODIFIED:20220510T110234Z
UID:104437-1386232200-1386262800@odpady-online.cz
SUMMARY:20. Emission Trading
DESCRIPTION:B.I.D. services s.r.o. (www.bids.cz)\nLibuše Kameníčková\, manažer konference\, +420 776 729 865\, libuse.kamenickova@bids.cz
URL:https://odpady-online.cz/udalost/20-emission-trading-2/
END:VEVENT
BEGIN:VEVENT
DTSTART;TZID=Europe/Prague:20131204T090000
DTEND;TZID=Europe/Prague:20131204T090000
DTSTAMP:20260424T123142
CREATED:20220510T110253Z
LAST-MODIFIED:20220510T110253Z
UID:104492-1386147600-1386147600@odpady-online.cz
SUMMARY:Den otevřených dveří UNIMARCO a. s.
DESCRIPTION:UNIMARCO a. s.\nunimarco@unimarco.cz
URL:https://odpady-online.cz/udalost/den-otevrenych-dveri-unimarco-a-s-2/
END:VEVENT
BEGIN:VEVENT
DTSTART;TZID=Europe/Prague:20131107T083000
DTEND;TZID=Europe/Prague:20131107T170000
DTSTAMP:20260424T123142
CREATED:20220510T110234Z
LAST-MODIFIED:20220510T110234Z
UID:104438-1383813000-1383843600@odpady-online.cz
SUMMARY:Solární energie v ČR 2013
DESCRIPTION:B.I.D. services s.r.o. (www.bids.cz)\nSoňa Miňovská\, manažer konference: sminovska@bids.cz\, mobil: 775 28 26 40
URL:https://odpady-online.cz/udalost/solarni-energie-v-cr-2013-2/
END:VEVENT
BEGIN:VEVENT
DTSTART;TZID=Europe/Prague:20131105T090000
DTEND;TZID=Europe/Prague:20131106T170000
DTSTAMP:20260424T123142
CREATED:20220510T110234Z
LAST-MODIFIED:20220510T110234Z
UID:104439-1383642000-1383757200@odpady-online.cz
SUMMARY:Fotovoltaické Fórum a Energetická konference 2013
DESCRIPTION:Česká fotovoltaická asociace\, o. s. a Czech Nature Energy a. s.\nBc. Naďa Barochová\, +420 373 395 044\, +420 775 640 147\, nada.barochova@cne.cz
URL:https://odpady-online.cz/udalost/fotovoltaicke-forum-a-energeticka-konference-2013-2/
END:VEVENT
BEGIN:VEVENT
DTSTART;TZID=Europe/Prague:20131031T090000
DTEND;TZID=Europe/Prague:20131031T170000
DTSTAMP:20260424T123142
CREATED:20220510T110234Z
LAST-MODIFIED:20220510T110234Z
UID:104440-1383210000-1383238800@odpady-online.cz
SUMMARY:Hospodaření s energií v podnicích 2013
DESCRIPTION:B.I.D. services s.r.o. (www.bids.cz)\nHelena Sochrová\, manažer semináře: helena.sochrova@bids.cz  Web: http://www.bids.cz/cz/konference/Hospodareni_s_energii_v_podnicich_2013/225
URL:https://odpady-online.cz/udalost/hospodareni-s-energii-v-podnicich-2013-2/
END:VEVENT
BEGIN:VEVENT
DTSTART;TZID=Europe/Prague:20131010T120000
DTEND;TZID=Europe/Prague:20131010T160000
DTSTAMP:20260424T123142
CREATED:20220510T110234Z
LAST-MODIFIED:20220510T110234Z
UID:104446-1381406400-1381420800@odpady-online.cz
SUMMARY:Den otevřených dveří společnosti Garnea
DESCRIPTION:Garnea\, a. s.\nwww.deutzfahr.cz
URL:https://odpady-online.cz/udalost/den-otevrenych-dveri-spolecnosti-garnea-2/
END:VEVENT
BEGIN:VEVENT
DTSTART;TZID=Europe/Prague:20131004T090000
DTEND;TZID=Europe/Prague:20131004T170000
DTSTAMP:20260424T123142
CREATED:20220510T110235Z
LAST-MODIFIED:20220510T110235Z
UID:104447-1380877200-1380906000@odpady-online.cz
SUMMARY:DEN ZEMĚDĚLCE A VENKOVA PÍSEK na Školním statku v Dobešicích
DESCRIPTION:Střední zemědělská škola v Písku\, OAK Písek\ncieslar@szespisek.cz Web: http://www.szespisek.cz/aktualne/_eng/?so=ak&ti=Aktuality
URL:https://odpady-online.cz/udalost/den-zemedelce-a-venkova-pisek-na-skolnim-statku-v-dobesicich-2/
END:VEVENT
BEGIN:VEVENT
DTSTART;TZID=Europe/Prague:20130927T090000
DTEND;TZID=Europe/Prague:20130928T160000
DTSTAMP:20260424T123142
CREATED:20220510T110235Z
LAST-MODIFIED:20220510T110235Z
UID:104448-1380272400-1380384000@odpady-online.cz
SUMMARY:Den otevřených dveří v Meclovské zemědělské a.s.
DESCRIPTION:Meclovská zemědělská a.s.\nwww.meclovska.cz Web: www.zemedelstvizije.cz
URL:https://odpady-online.cz/udalost/den-otevrenych-dveri-v-meclovske-zemedelske-a-s-2/
END:VEVENT
BEGIN:VEVENT
DTSTART;TZID=Europe/Prague:20130926T090000
DTEND;TZID=Europe/Prague:20130927T090000
DTSTAMP:20260424T123142
CREATED:20220510T110235Z
LAST-MODIFIED:20220510T110235Z
UID:104449-1380186000-1380272400@odpady-online.cz
SUMMARY:Dny otevřených dveří CIME-S\,s.r.o.
DESCRIPTION:CIME-S\,s.r.o.\nMiroslav Peterka 731607744 Web: www.cime.cz
URL:https://odpady-online.cz/udalost/dny-otevrenych-dveri-cime-ss-r-o-2/
END:VEVENT
BEGIN:VEVENT
DTSTART;TZID=Europe/Prague:20130917T000000
DTEND;TZID=Europe/Prague:20130919T000000
DTSTAMP:20260424T123142
CREATED:20220510T110253Z
LAST-MODIFIED:20220510T110253Z
UID:104488-1379376000-1379548800@odpady-online.cz
SUMMARY:Dny zahradní a komunální techniky
DESCRIPTION:ProfiPress s.r.o.\,Sdružení komunálních služeb\,Sdružení veřejně prospěšných služeb \nDomovská stránka
URL:https://odpady-online.cz/udalost/dny-zahradni-a-komunalni-techniky-4/
END:VEVENT
BEGIN:VEVENT
DTSTART;TZID=Europe/Prague:20130912T090000
DTEND;TZID=Europe/Prague:20130912T160000
DTSTAMP:20260424T123142
CREATED:20220510T110235Z
LAST-MODIFIED:20220510T110235Z
UID:104451-1378976400-1379001600@odpady-online.cz
SUMMARY:Komunální SAFARI 2013
DESCRIPTION:SIMED\, s. r. o\nobchod@simed.cz\, www.simed.cz
URL:https://odpady-online.cz/udalost/komunalni-safari-2013-2/
END:VEVENT
BEGIN:VEVENT
DTSTART;TZID=Europe/Prague:20130910T000000
DTEND;TZID=Europe/Prague:20130912T000000
DTSTAMP:20260424T123142
CREATED:20220510T110306Z
LAST-MODIFIED:20220510T110306Z
UID:104497-1378771200-1378944000@odpady-online.cz
SUMMARY:Den Zemědělce v Kámeni
DESCRIPTION:Profi Press\,s.r.o.\,
URL:https://odpady-online.cz/udalost/den-zemedelce-v-kameni-2/
END:VEVENT
BEGIN:VEVENT
DTSTART;TZID=Europe/Prague:20130907T090000
DTEND;TZID=Europe/Prague:20130907T170000
DTSTAMP:20260424T123142
CREATED:20220510T110306Z
LAST-MODIFIED:20220510T110306Z
UID:104498-1378544400-1378573200@odpady-online.cz
SUMMARY:HISTORICKÉ TRAKTORY - STABILNÍ MOTORY - ZEMĚDĚLSKÉ STROJE
DESCRIPTION:N&N KOŠÁTKY s.r.o.\n602 227 193\, ales.nezbeda@nn-kosatky.cz Web: www.historicke-traktory.cz
URL:https://odpady-online.cz/udalost/historicke-traktory-stabilni-motory-zemedelske-stroje-2/
END:VEVENT
BEGIN:VEVENT
DTSTART;TZID=Europe/Prague:20130906T000000
DTEND;TZID=Europe/Prague:20130907T000000
DTSTAMP:20260424T123142
CREATED:20220510T110253Z
LAST-MODIFIED:20220510T110253Z
UID:104490-1378425600-1378512000@odpady-online.cz
SUMMARY:Zelený svět
DESCRIPTION:AZV\n Web: www.green-world.info
URL:https://odpady-online.cz/udalost/zeleny-svet-2/
END:VEVENT
BEGIN:VEVENT
DTSTART;TZID=Europe/Prague:20130829T000000
DTEND;TZID=Europe/Prague:20130903T000000
DTSTAMP:20260424T123142
CREATED:20220510T110253Z
LAST-MODIFIED:20220510T110253Z
UID:104491-1377734400-1378166400@odpady-online.cz
SUMMARY:Země Živitelka - 40. ročník\, Ekostyl\, Mezinárodní výstava družstevnictví
DESCRIPTION:Výstaviště České Budějovice\, a. s.\ninfo@vcb.cz Web: http://www.vcb.cz
URL:https://odpady-online.cz/udalost/zeme-zivitelka-40-rocnik-ekostyl-mezinarodni-vystava-druzstevnictvi-2/
END:VEVENT
BEGIN:VEVENT
DTSTART;TZID=Europe/Prague:20130822T000000
DTEND;TZID=Europe/Prague:20130825T000000
DTSTAMP:20260424T123142
CREATED:20220510T110253Z
LAST-MODIFIED:20220510T110253Z
UID:104489-1377129600-1377388800@odpady-online.cz
SUMMARY:AGROKOMPLEX  2013
DESCRIPTION:Agrokomplex výstavníctvo š.p.\nwww.agrokomplex.sk
URL:https://odpady-online.cz/udalost/agrokomplex-2013-2/
END:VEVENT
BEGIN:VEVENT
DTSTART;TZID=Europe/Prague:20130817T140000
DTEND;TZID=Europe/Prague:20130817T220000
DTSTAMP:20260424T123142
CREATED:20220510T110235Z
LAST-MODIFIED:20220510T110235Z
UID:104450-1376748000-1376776800@odpady-online.cz
SUMMARY:Turnianske historické slávnosti
DESCRIPTION:Gigant promotion\ngigantpromotion@gmail.com Web: http://www.gigantpromotion.eu
URL:https://odpady-online.cz/udalost/turnianske-historicke-slavnosti-2/
END:VEVENT
BEGIN:VEVENT
DTSTART;TZID=Europe/Prague:20130627T090000
DTEND;TZID=Europe/Prague:20130627T170000
DTSTAMP:20260424T123142
CREATED:20220510T110306Z
LAST-MODIFIED:20220510T110306Z
UID:104494-1372323600-1372352400@odpady-online.cz
SUMMARY:Kralovická zemědělská výstava - Hadačka 2013
DESCRIPTION:Kralovická zemědělská a.s.\nIng.Jaroslav Bulín e-mail: jarda.bulin@seznam.cz \, tel. 606 604 799
URL:https://odpady-online.cz/udalost/kralovicka-zemedelska-vystava-hadacka-2013-2/
END:VEVENT
BEGIN:VEVENT
DTSTART;TZID=Europe/Prague:20130625T100000
DTEND;TZID=Europe/Prague:20130625T140000
DTSTAMP:20260424T123142
CREATED:20220510T110235Z
LAST-MODIFIED:20220510T110235Z
UID:104453-1372154400-1372168800@odpady-online.cz
SUMMARY:LAMBORGHINI DAY VI.
DESCRIPTION:SOME\, s. r. o.\nwww.somejh.cz
URL:https://odpady-online.cz/udalost/lamborghini-day-vi-2/
END:VEVENT
BEGIN:VEVENT
DTSTART;TZID=Europe/Prague:20130623T090000
DTEND;TZID=Europe/Prague:20130625T160000
DTSTAMP:20260424T123142
CREATED:20220510T110244Z
LAST-MODIFIED:20220510T110244Z
UID:104470-1371978000-1372176000@odpady-online.cz
SUMMARY:DEMOPARK
DESCRIPTION:Demopark\nwww.demopark.de
URL:https://odpady-online.cz/udalost/demopark-2/
END:VEVENT
BEGIN:VEVENT
DTSTART;TZID=Europe/Prague:20130621T000000
DTEND;TZID=Europe/Prague:20130622T000000
DTSTAMP:20260424T123142
CREATED:20220510T110244Z
LAST-MODIFIED:20220510T110244Z
UID:104462-1371772800-1371859200@odpady-online.cz
SUMMARY:Den Agribar zemědělská technika
DESCRIPTION:Agribar zemědělská technika\ntel.: 326 997 672\, 724 336 976\, email: info@agribar.cz Web: www.agribar.cz
URL:https://odpady-online.cz/udalost/den-agribar-zemedelska-technika-3/
END:VEVENT
BEGIN:VEVENT
DTSTART;TZID=Europe/Prague:20130620T100000
DTEND;TZID=Europe/Prague:20130620T150000
DTSTAMP:20260424T123142
CREATED:20220510T110244Z
LAST-MODIFIED:20220510T110244Z
UID:104455-1371722400-1371740400@odpady-online.cz
SUMMARY:3. ročník Zetor family tractor show
DESCRIPTION:Zetor\nwww.zetor.com
URL:https://odpady-online.cz/udalost/3-rocnik-zetor-family-tractor-show-2/
END:VEVENT
END:VCALENDAR