BEGIN:VCALENDAR
VERSION:2.0
PRODID:-//Odpady - ECPv6.14.2//NONSGML v1.0//EN
CALSCALE:GREGORIAN
METHOD:PUBLISH
X-WR-CALNAME:Odpady
X-ORIGINAL-URL:https://odpady-online.cz
X-WR-CALDESC:Akce na Odpady
REFRESH-INTERVAL;VALUE=DURATION:PT1H
X-Robots-Tag:noindex
X-PUBLISHED-TTL:PT1H
BEGIN:VTIMEZONE
TZID:Europe/Prague
BEGIN:DAYLIGHT
TZOFFSETFROM:+0100
TZOFFSETTO:+0200
TZNAME:CEST
DTSTART:20140330T010000
END:DAYLIGHT
BEGIN:STANDARD
TZOFFSETFROM:+0200
TZOFFSETTO:+0100
TZNAME:CET
DTSTART:20141026T010000
END:STANDARD
BEGIN:DAYLIGHT
TZOFFSETFROM:+0100
TZOFFSETTO:+0200
TZNAME:CEST
DTSTART:20150329T010000
END:DAYLIGHT
BEGIN:STANDARD
TZOFFSETFROM:+0200
TZOFFSETTO:+0100
TZNAME:CET
DTSTART:20151025T010000
END:STANDARD
END:VTIMEZONE
BEGIN:VEVENT
DTSTART;TZID=Europe/Prague:20150523T100000
DTEND;TZID=Europe/Prague:20150523T170000
DTSTAMP:20260424T105704
CREATED:20220510T110450Z
LAST-MODIFIED:20220510T110450Z
UID:104598-1432375200-1432400400@odpady-online.cz
SUMMARY:Honda Day
DESCRIPTION:a:3:{s:7:"address";s:29:"U závodiště 251/8\, Praha 5";s:3:"lat";s:10:"50.0118966";s:3:"lng";s:18:"14.393992199999957";} \nBG Technik cs\, a.s.\nhttp://zahradnitechnikabg.cz/
URL:https://odpady-online.cz/udalost/honda-day-6/
END:VEVENT
BEGIN:VEVENT
DTSTART;TZID=Europe/Prague:20150516T090000
DTEND;TZID=Europe/Prague:20150516T160000
DTSTAMP:20260424T105704
CREATED:20220510T110450Z
LAST-MODIFIED:20220510T110450Z
UID:104597-1431766800-1431792000@odpady-online.cz
SUMMARY:Honda Day
DESCRIPTION:a:3:{s:7:"address";s:26:"Výstavní 123/11\, Ostrava";s:3:"lat";s:10:"49.8080364";s:3:"lng";s:18:"18.274588600000015";} \nBG Technik cs\, a.s.\nhttp://zahradnitechnikabg.cz/
URL:https://odpady-online.cz/udalost/honda-day-5/
END:VEVENT
BEGIN:VEVENT
DTSTART;TZID=Europe/Prague:20150515T090000
DTEND;TZID=Europe/Prague:20150516T150000
DTSTAMP:20260424T105704
CREATED:20220510T110440Z
LAST-MODIFIED:20220510T110440Z
UID:104591-1431680400-1431788400@odpady-online.cz
SUMMARY:Dny otevřených dveří P & L
DESCRIPTION:a:3:{s:7:"address";s:19:"Velké Meziříčí";s:3:"lat";s:10:"49.3560885";s:3:"lng";s:17:"16.01305769999999";} \nP & L\, s. r. o.\nwww.kioti.pal.cz
URL:https://odpady-online.cz/udalost/dny-otevrenych-dveri-p-l-2/
END:VEVENT
BEGIN:VEVENT
DTSTART;TZID=Europe/Prague:20150512T090000
DTEND;TZID=Europe/Prague:20150513T153000
DTSTAMP:20260424T105704
CREATED:20220510T110440Z
LAST-MODIFIED:20220510T110440Z
UID:104590-1431421200-1431531000@odpady-online.cz
SUMMARY:Jarní zasedání Spolku veřejně prospěšných služeb
DESCRIPTION:Odborné setkání spojené s ukázkou techniky pro města a obce \na:3:{s:7:"address";s:10:"Slušovice";s:3:"lat";s:10:"49.2478175";s:3:"lng";s:17:"17.80150720000006";} \nSpolek veřejně prospěšných služeb\nwww.svps.cz
URL:https://odpady-online.cz/udalost/jarni-zasedani-spolku-verejne-prospesnych-sluzeb-2/
END:VEVENT
BEGIN:VEVENT
DTSTART;TZID=Europe/Prague:20150511T090000
DTEND;TZID=Europe/Prague:20150516T150000
DTSTAMP:20260424T105704
CREATED:20220510T110450Z
LAST-MODIFIED:20220510T110450Z
UID:104595-1431334800-1431788400@odpady-online.cz
SUMMARY:Testovací dny Přerov
DESCRIPTION:a:3:{s:7:"address";s:27:"Hulínská 265\, Přerov III";s:3:"lat";s:10:"49.3351755";s:3:"lng";s:18:"17.574305099999947";} \nDaniš Davaz Technik\, s. r. o.\nwww.davaztechnik.cz
URL:https://odpady-online.cz/udalost/testovaci-dny-prerov-2/
END:VEVENT
BEGIN:VEVENT
DTSTART;TZID=Europe/Prague:20150508T100000
DTEND;TZID=Europe/Prague:20150508T170000
DTSTAMP:20260424T105704
CREATED:20220510T110450Z
LAST-MODIFIED:20220510T110450Z
UID:104596-1431079200-1431104400@odpady-online.cz
SUMMARY:Honda Day
DESCRIPTION:a:3:{s:7:"address";s:29:"U závodiště 251/8\, Praha 5";s:3:"lat";s:10:"50.0118966";s:3:"lng";s:18:"14.393992199999957";} \nBG Technik cs\, a.s.\nhttp://zahradnitechnikabg.cz/
URL:https://odpady-online.cz/udalost/honda-day-4/
END:VEVENT
BEGIN:VEVENT
DTSTART;TZID=Europe/Prague:20150428T093000
DTEND;TZID=Europe/Prague:20150429T153000
DTSTAMP:20260424T105704
CREATED:20220510T110440Z
LAST-MODIFIED:20220510T110440Z
UID:104589-1430213400-1430321400@odpady-online.cz
SUMMARY:Dny otevřených dveří Ittec
DESCRIPTION:Technika pro údržbu zelených ploch ve městech\, obcích a na sportovištích (fotbal\, golf...)\, užitková vozítka atd. \na:3:{s:7:"address";s:9:"Modletice";s:3:"lat";s:10:"49.9701604";s:3:"lng";s:18:"14.591086399999994";} \nIttec\, s. r. o.\nwww.ittec.cz
URL:https://odpady-online.cz/udalost/dny-otevrenych-dveri-ittec-4/
END:VEVENT
BEGIN:VEVENT
DTSTART;TZID=Europe/Prague:20150422T160000
DTEND;TZID=Europe/Prague:20150424T150000
DTSTAMP:20260424T105704
CREATED:20220510T110440Z
LAST-MODIFIED:20220510T110440Z
UID:104588-1429718400-1429887600@odpady-online.cz
SUMMARY:Jarní odborné setkání Sdružení komunálních služeb
DESCRIPTION:Odborné setkání spojené s prezentací komunální techniky pro různé nasazení \na:3:{s:7:"address";s:19:"Mariánské Lázně";s:3:"lat";s:10:"49.9645986";s:3:"lng";s:18:"12.701197699999966";} \nSdružení komunálních služeb\nwww.sdruzeniks.cz
URL:https://odpady-online.cz/udalost/jarni-odborne-setkani-sdruzeni-komunalnich-sluzeb-2/
END:VEVENT
BEGIN:VEVENT
DTSTART;TZID=Europe/Prague:20150416T090000
DTEND;TZID=Europe/Prague:20150416T150000
DTSTAMP:20260424T105704
CREATED:20220510T110440Z
LAST-MODIFIED:20220510T110440Z
UID:104587-1429174800-1429196400@odpady-online.cz
SUMMARY:Marokánka 2015
DESCRIPTION:Prezentace vozů Mercedes-Benz a Fuso Canter\, stavební mechanizace \na:3:{s:7:"address";s:35:"Krňovice\, Třebechovice pod Orebem";s:3:"lat";s:10:"50.1913887";s:3:"lng";s:17:"15.97901330000002";} \nFA Rene\, a. s.\nwww.farene.cz
URL:https://odpady-online.cz/udalost/marokanka-2015-2/
END:VEVENT
BEGIN:VEVENT
DTSTART;TZID=Europe/Prague:20150327T090000
DTEND;TZID=Europe/Prague:20150327T160000
DTSTAMP:20260424T105704
CREATED:20220510T110440Z
LAST-MODIFIED:20220510T110440Z
UID:104586-1427446800-1427472000@odpady-online.cz
SUMMARY:Jarní den otevřených dveří společnosti Eurogreen
DESCRIPTION:Komunální technika v akci - traktory\, příslušenství\, žací technika\, elektromobily\, třídiče \na:3:{s:7:"address";s:42:"Ke Kateřinkám 88\, Jiřetín pod Jedlovou";s:3:"lat";s:10:"50.8763861";s:3:"lng";s:18:"14.573707600000034";} \nEurogreen CZ\, s. r. o.\nwww.eurogreen.cz
URL:https://odpady-online.cz/udalost/jarni-den-otevrenych-dveri-spolecnosti-eurogreen-4/
END:VEVENT
BEGIN:VEVENT
DTSTART;TZID=Europe/Prague:20150319T090000
DTEND;TZID=Europe/Prague:20150322T160000
DTSTAMP:20260424T105704
CREATED:20220510T110440Z
LAST-MODIFIED:20220510T110440Z
UID:104585-1426755600-1427040000@odpady-online.cz
SUMMARY:For Garden
DESCRIPTION:Mezinárodní veletrh zahradní architektury\, nábytku\, techniky a veřejné zeleně \na:3:{s:7:"address";s:19:"PVA Letňany\, Praha";s:3:"lat";s:9:"50.136703";s:3:"lng";s:18:"14.514752499999986";} \nABF\, a. s.\nwww.for-garden.cz
URL:https://odpady-online.cz/udalost/for-garden-2/
END:VEVENT
BEGIN:VEVENT
DTSTART;TZID=Europe/Prague:20150317T093000
DTEND;TZID=Europe/Prague:20150317T150000
DTSTAMP:20260424T105704
CREATED:20220510T110440Z
LAST-MODIFIED:20220510T110440Z
UID:104583-1426584600-1426604400@odpady-online.cz
SUMMARY:Den malých obcí
DESCRIPTION:Setkání starostů se zástupci státní správy \na:3:{s:7:"address";s:50:"Společenský dům\, Komenského 4142/6\, Prostějov";s:3:"lat";s:10:"49.4707581";s:3:"lng";s:17:"17.11331169999994";} \nTriada\, s. r. o.\nwww.denmalychobci.cz
URL:https://odpady-online.cz/udalost/den-malych-obci-4/
END:VEVENT
BEGIN:VEVENT
DTSTART;TZID=Europe/Prague:20150317T093000
DTEND;TZID=Europe/Prague:20150318T160000
DTSTAMP:20260424T105704
CREATED:20220510T110440Z
LAST-MODIFIED:20220510T110440Z
UID:104584-1426584600-1426694400@odpady-online.cz
SUMMARY:Dny otevřených dveří firmy Agrometall
DESCRIPTION:Prezentace komunální techniky: nosiče a doplňky pro celoroční úklid komunikací a jejich okolí \na:3:{s:7:"address";s:35:"Nový Dvůr 938\, Heřmanův Městec";s:3:"lat";s:10:"49.9463895";s:3:"lng";s:17:"15.68398830000001";} \nAgrometall\, s. r. o.\nwww.agrometall.cz
URL:https://odpady-online.cz/udalost/dny-otevrenych-dveri-firmy-agrometall-2/
END:VEVENT
BEGIN:VEVENT
DTSTART;TZID=Europe/Prague:20150311T090000
DTEND;TZID=Europe/Prague:20150312T160000
DTSTAMP:20260424T105704
CREATED:20220510T110440Z
LAST-MODIFIED:20220510T110440Z
UID:104582-1426064400-1426176000@odpady-online.cz
SUMMARY:Dny otevřených dveří Kubota
DESCRIPTION:Prezentace techniky Kubota \na:3:{s:7:"address";s:26:"Košťálkova 1527\, Beroun";s:3:"lat";s:10:"49.9530898";s:3:"lng";s:18:"14.047090300000036";} \nK.B.T. PROFTECH\, s. r. o.\nwww.kubota.cz
URL:https://odpady-online.cz/udalost/dny-otevrenych-dveri-kubota-2/
END:VEVENT
BEGIN:VEVENT
DTSTART;TZID=Europe/Prague:20150310T090000
DTEND;TZID=Europe/Prague:20150310T150000
DTSTAMP:20260424T105704
CREATED:20220510T110440Z
LAST-MODIFIED:20220510T110440Z
UID:104581-1425978000-1425999600@odpady-online.cz
SUMMARY:Den malých obcí
DESCRIPTION:Setkání starostů se zástupci státní správy.  \na:3:{s:7:"address";s:54:"Národní dům Smíchov\, nám. 14. října 16\, Praha 5";s:3:"lat";s:17:"50.07381789999999";s:3:"lng";s:18:"14.407647699999984";} \nTriada\, s. r. o.\nwww.denmalychobci.cz
URL:https://odpady-online.cz/udalost/den-malych-obci-3/
END:VEVENT
BEGIN:VEVENT
DTSTART;TZID=Europe/Prague:20150302T080000
DTEND;TZID=Europe/Prague:20150306T160000
DTSTAMP:20260424T105704
CREATED:20220510T110440Z
LAST-MODIFIED:20220510T110440Z
UID:104580-1425283200-1425657600@odpady-online.cz
SUMMARY:Týden otevřených dveří společnosti Agro Trnava
DESCRIPTION:Komunální a zemědělská technika. Akční ceny na celý sortiment\, bohaté občerstvení. \na:3:{s:7:"address";s:25:"Trnava 224\, u Třebíče ";s:3:"lat";s:10:"49.2609267";s:3:"lng";s:18:"15.926468699999986";} \nAgro Trnava\, s. r. o.\nwww.agrotrnava.cz
URL:https://odpady-online.cz/udalost/tyden-otevrenych-dveri-spolecnosti-agro-trnava-2/
END:VEVENT
BEGIN:VEVENT
DTSTART;TZID=Europe/Prague:20150217T090000
DTEND;TZID=Europe/Prague:20150220T160000
DTSTAMP:20260424T105704
CREATED:20220510T110440Z
LAST-MODIFIED:20220510T110440Z
UID:104579-1424163600-1424448000@odpady-online.cz
SUMMARY:Jarní výstavní dny společnosti SOME
DESCRIPTION:Přehlídka komunální\, lesní a zemědělské techniky. Oslavy 20. výročí založení firmy. \na:3:{s:7:"address";s:41:"Jarošovská 1267/II\, Jindřichův Hradec";s:3:"lat";s:9:"49.162028";s:3:"lng";s:18:"15.015343700000016";} \nSOME Jindřichův Hradec\, s. r. o.\nwww.somejh.cz
URL:https://odpady-online.cz/udalost/jarni-vystavni-dny-spolecnosti-some-2/
END:VEVENT
BEGIN:VEVENT
DTSTART;TZID=Europe/Prague:20141016T090000
DTEND;TZID=Europe/Prague:20141019T170000
DTSTAMP:20260424T105704
CREATED:20220510T110234Z
LAST-MODIFIED:20220510T110234Z
UID:104441-1413450000-1413738000@odpady-online.cz
SUMMARY:HOBBY podzim
DESCRIPTION:Výstaviště České Budějovice a.s.\nwww.vcb.cz\, info@vcb.cz\, 387 714 911 Web: www.vcb.cz
URL:https://odpady-online.cz/udalost/hobby-podzim-2/
END:VEVENT
BEGIN:VEVENT
DTSTART;TZID=Europe/Prague:20141003T090000
DTEND;TZID=Europe/Prague:20141003T160000
DTSTAMP:20260424T105704
CREATED:20220510T110440Z
LAST-MODIFIED:20220510T110440Z
UID:104578-1412326800-1412352000@odpady-online.cz
SUMMARY:Den otevřených dveří společnosti Eurogreen CZ
DESCRIPTION:Eurogreen-Pozvanka-Podzim_2014 \na:3:{s:7:"address";s:52:"Náměstí Jiřího 2\, 407 56 Jiřetín pod Jedlovou";s:3:"lat";s:10:"50.8742975";s:3:"lng";s:18:"14.574838900000031";} \nEurogreen CZ\, s. r. o.\nwww.eurogreen.cz\, e-mail: info@eurogreen.cz
URL:https://odpady-online.cz/udalost/den-otevrenych-dveri-spolecnosti-eurogreen-cz-2/
END:VEVENT
BEGIN:VEVENT
DTSTART;TZID=Europe/Prague:20140924T100000
DTEND;TZID=Europe/Prague:20140925T150000
DTSTAMP:20260424T105704
CREATED:20220510T110440Z
LAST-MODIFIED:20220510T110440Z
UID:104577-1411552800-1411657200@odpady-online.cz
SUMMARY:Dny otevřených dveří společnosti MTM Tech
DESCRIPTION:Setkání zástupců firmy s obchodními partnery u příležitosti 20. výročí založení. \na:3:{s:7:"address";s:54:"Vavřinec-Veselice 84\, 679 13 Sloup v Moravském krasu";s:3:"lat";s:10:"49.4036754";s:3:"lng";s:18:"16.724701800000048";} \nMTM Tech\, s. r. o.\nwww.mtmtech.cz
URL:https://odpady-online.cz/udalost/dny-otevrenych-dveri-spolecnosti-mtm-tech-2/
END:VEVENT
BEGIN:VEVENT
DTSTART;TZID=Europe/Prague:20140916T090000
DTEND;TZID=Europe/Prague:20140917T160000
DTSTAMP:20260424T105704
CREATED:20220510T110440Z
LAST-MODIFIED:20220510T110440Z
UID:104576-1410858000-1410969600@odpady-online.cz
SUMMARY:Dny zahradní a komunální techniky 2014
DESCRIPTION:DZKT \na:3:{s:7:"address";s:46:"letiště Horní Papšíkov\, Havlíčkův Brod";s:3:"lat";s:17:"49.60046699999999";s:3:"lng";s:18:"15.549209799999971";} \nProfi Press\, s. r. o.\, redakce časopisů Komunální technika a Zahradnictví\nwww.dzkt.cz
URL:https://odpady-online.cz/udalost/dny-zahradni-a-komunalni-techniky-2014-2/
END:VEVENT
BEGIN:VEVENT
DTSTART;TZID=Europe/Prague:20140828T090000
DTEND;TZID=Europe/Prague:20140902T170000
DTSTAMP:20260424T105704
CREATED:20220510T110234Z
LAST-MODIFIED:20220510T110234Z
UID:104443-1409216400-1409677200@odpady-online.cz
SUMMARY:EKOSTYL
DESCRIPTION:Výstaviště České Budějovice a.s.\nwww.vcb.cz\, info@vcb.cz\, 387 714 911 Web: www.vcb.cz
URL:https://odpady-online.cz/udalost/ekostyl-2/
END:VEVENT
BEGIN:VEVENT
DTSTART;TZID=Europe/Prague:20140828T090000
DTEND;TZID=Europe/Prague:20140902T170000
DTSTAMP:20260424T105704
CREATED:20220510T110234Z
LAST-MODIFIED:20220510T110234Z
UID:104444-1409216400-1409677200@odpady-online.cz
SUMMARY:Mezinárodní výstava družstevnictví
DESCRIPTION:Výstaviště České Budějovice a.s.\nwww.vcb.cz\, info@vcb.cz\, 387 714 911 Web: www.vcb.cz
URL:https://odpady-online.cz/udalost/mezinarodni-vystava-druzstevnictvi-2/
END:VEVENT
BEGIN:VEVENT
DTSTART;TZID=Europe/Prague:20140828T090000
DTEND;TZID=Europe/Prague:20140902T170000
DTSTAMP:20260424T105704
CREATED:20220510T110234Z
LAST-MODIFIED:20220510T110234Z
UID:104445-1409216400-1409677200@odpady-online.cz
SUMMARY:Země živitelka
DESCRIPTION:Výstaviště České Budějovice a.s.\nwww.vcb.cz\, info@vcb.cz\, 387 714 911 Web: www.vcb.cz
URL:https://odpady-online.cz/udalost/zeme-zivitelka-2/
END:VEVENT
BEGIN:VEVENT
DTSTART;TZID=Europe/Prague:20140604T100000
DTEND;TZID=Europe/Prague:20140605T160000
DTSTAMP:20260424T105704
CREATED:20220510T110440Z
LAST-MODIFIED:20220510T110440Z
UID:104574-1401876000-1401984000@odpady-online.cz
SUMMARY:Zahradní a komunální technika v akci
DESCRIPTION:a:3:{s:7:"address";s:25:"Výdušná ulice\, Ostrava";s:3:"lat";s:10:"49.8722216";s:3:"lng";s:18:"18.278906300000017";} \nChlebiš\, zahradní a komunální technika\nwww.chlebis.cz
URL:https://odpady-online.cz/udalost/zahradni-a-komunalni-technika-v-akci-2/
END:VEVENT
BEGIN:VEVENT
DTSTART;TZID=Europe/Prague:20140603T100000
DTEND;TZID=Europe/Prague:20140603T160000
DTSTAMP:20260424T105704
CREATED:20220510T110440Z
LAST-MODIFIED:20220510T110440Z
UID:104575-1401789600-1401811200@odpady-online.cz
SUMMARY:Den s technikou
DESCRIPTION:a:3:{s:7:"address";s:43:"Malostranská 41\, Šenov u Nového Jičína";s:3:"lat";s:10:"49.6121517";s:3:"lng";s:17:"17.99818110000001";} \nSDO Technika s.r.o.\nhttp://www.sdotechnika.cz/kontakt-spolecnosti
URL:https://odpady-online.cz/udalost/den-s-technikou-2/
END:VEVENT
BEGIN:VEVENT
DTSTART;TZID=Europe/Prague:20140515T090000
DTEND;TZID=Europe/Prague:20140516T150000
DTSTAMP:20260424T105704
CREATED:20220510T110430Z
LAST-MODIFIED:20220510T110430Z
UID:104573-1400144400-1400252400@odpady-online.cz
SUMMARY:DNY KOMUNÁLNÍ TECHNIKY KIOTI
DESCRIPTION:Dny komunální techniky se v areálu společnosti P & L ve Velkém Meziříčí uskuteční již potřetí. Traktory KIOTI zde mají svoji velkou základnu pro celou ČR a SR. Představíme tři zcela nové modelové řady traktorů KIOTI série NX\, RX\, a PX. Jedná se o užitkové\, komunální a zemědělské traktory s výkonem od 20 do 90 koní. Všechny traktory si budete moci detailně prohlédnout a osobně vyzkoušet. Nové traktory KIOTI se vyznačují nejen všestranností a spolehlivostí\, ale i komfortní kabinou a novým moderním designem. \na:3:{s:7:"address";s:38:"Třebíčská 74b\, Velké Meziříčí";s:3:"lat";s:10:"49.3465919";s:3:"lng";s:17:"15.99285359999999";} \nP & L spol. s r. o.\nkmicankova&pal.cz\nKateřina Mičánková
URL:https://odpady-online.cz/udalost/dny-komunalni-techniky-kioti-2/
END:VEVENT
BEGIN:VEVENT
DTSTART;TZID=Europe/Prague:20140514T090000
DTEND;TZID=Europe/Prague:20140518T170000
DTSTAMP:20260424T105704
CREATED:20220510T110234Z
LAST-MODIFIED:20220510T110234Z
UID:104442-1400058000-1400432400@odpady-online.cz
SUMMARY:HOBBY
DESCRIPTION:Výstaviště České Budějovice a.s.\nwww.vcb.cz\, info@vcb.cz\, 387 714 911 Web: www.vcb.cz
URL:https://odpady-online.cz/udalost/hobby-2/
END:VEVENT
BEGIN:VEVENT
DTSTART;TZID=Europe/Prague:20140311T090000
DTEND;TZID=Europe/Prague:20140312T150000
DTSTAMP:20260424T105704
CREATED:20220510T110430Z
LAST-MODIFIED:20220510T110430Z
UID:104572-1394528400-1394636400@odpady-online.cz
SUMMARY:Dny otevřených dveří společnosti Agrometall
DESCRIPTION:Agrometall_pozvanka-OK \nŠiroká nabídka zemědělské\, komunální a zahradní techniky \na:3:{s:7:"address";s:35:"Nový Dvůr 938\, Heřmanův Městec";s:3:"lat";s:10:"49.9463895";s:3:"lng";s:17:"15.68398830000001";} \nAgrometall\, s. r. o.\nwww.agrometall.cz
URL:https://odpady-online.cz/udalost/dny-otevrenych-dveri-spolecnosti-agrometall-3/
END:VEVENT
BEGIN:VEVENT
DTSTART;TZID=Europe/Prague:20140221T090000
DTEND;TZID=Europe/Prague:20140221T150000
DTSTAMP:20260424T105704
CREATED:20220510T110430Z
LAST-MODIFIED:20220510T110430Z
UID:104568-1392973200-1392994800@odpady-online.cz
SUMMARY:PEKASS FORUM 2014
DESCRIPTION:PEKASS FORUM 2014 vás seznámí jak s novinkami\, tak s ověřenými modely zemědělské\, komunální či silniční techniky. Celým dnem vás bude provázet šarmantní moderátorka Hanka Koutná. Nebude chybět bohatý doprovodný program ani odborné přednášky. Na registrované čeká drobné občerstvení a tombola! \nVíce na internetové stránce www.pekassforum.eu \na:3:{s:7:"address";s:31:"PVA EXPO PRAHA\, Beranových 667";s:3:"lat";s:10:"50.1297238";s:3:"lng";s:17:"14.51416340000003";} \nPEKASS a.s.\nPřátelství 987\nPraha 10 - Uhříněves\nPSČ: 10400\ntel.: 775850358
URL:https://odpady-online.cz/udalost/pekass-forum-2014-4/
END:VEVENT
END:VCALENDAR