BEGIN:VCALENDAR
VERSION:2.0
PRODID:-//Odpady - ECPv6.14.2//NONSGML v1.0//EN
CALSCALE:GREGORIAN
METHOD:PUBLISH
X-WR-CALNAME:Odpady
X-ORIGINAL-URL:https://odpady-online.cz
X-WR-CALDESC:Akce na Odpady
REFRESH-INTERVAL;VALUE=DURATION:PT1H
X-Robots-Tag:noindex
X-PUBLISHED-TTL:PT1H
BEGIN:VTIMEZONE
TZID:Europe/Prague
BEGIN:DAYLIGHT
TZOFFSETFROM:+0100
TZOFFSETTO:+0200
TZNAME:CEST
DTSTART:20250330T010000
END:DAYLIGHT
BEGIN:STANDARD
TZOFFSETFROM:+0200
TZOFFSETTO:+0100
TZNAME:CET
DTSTART:20251026T010000
END:STANDARD
END:VTIMEZONE
BEGIN:VEVENT
DTSTART;TZID=Europe/Prague:20250601T080000
DTEND;TZID=Europe/Prague:20250630T170000
DTSTAMP:20260422T110307
CREATED:20250124T100006Z
LAST-MODIFIED:20250124T100006Z
UID:118815-1748764800-1751302800@odpady-online.cz
SUMMARY:Předváděcí akce společnosti Mouder
DESCRIPTION:Drticí a lisovací technika. \nTermín a místo budou upřesněny.
URL:https://odpady-online.cz/udalost/predvadeci-akce-spolecnosti-mouder-7/
END:VEVENT
BEGIN:VEVENT
DTSTART;TZID=Europe/Prague:20250603T080000
DTEND;TZID=Europe/Prague:20250604T170000
DTSTAMP:20260422T110307
CREATED:20250124T100006Z
LAST-MODIFIED:20250124T100006Z
UID:118816-1748937600-1749056400@odpady-online.cz
SUMMARY:Celoslovenské dni poľa
DESCRIPTION:Odrůdy\, ochrana\, výživa rostlin\, hospodářská zvířata\, zemědělská technika.
URL:https://odpady-online.cz/udalost/celoslovenske-dni-pola/
END:VEVENT
BEGIN:VEVENT
DTSTART;TZID=Europe/Prague:20250604T080000
DTEND;TZID=Europe/Prague:20250605T170000
DTSTAMP:20260422T110307
CREATED:20250124T100006Z
LAST-MODIFIED:20250124T100006Z
UID:118817-1749024000-1749142800@odpady-online.cz
SUMMARY:Konference ODPADY A OBCE 2025
DESCRIPTION:
URL:https://odpady-online.cz/udalost/konference-odpady-a-obce-2025/
END:VEVENT
BEGIN:VEVENT
DTSTART;TZID=Europe/Prague:20250604T100000
DTEND;TZID=Europe/Prague:20250604T150000
DTSTAMP:20260422T110307
CREATED:20250502T173006Z
LAST-MODIFIED:20250502T173006Z
UID:119703-1749031200-1749049200@odpady-online.cz
SUMMARY:Otevřený CELOSTÁTNÍ SEMINÁŘ v rámci Letní školy Zdravých měst 2025
DESCRIPTION:Otevřený seminář s tématem Veřejné investice jako hybatel rozvoje obcí\, měst a regionů nabídne řadu aktualit a příkladů dobré praxe.
URL:https://odpady-online.cz/udalost/otevreny-celostatni-seminar-v-ramci-letni-skoly-zdravych-mest-2025/
END:VEVENT
END:VCALENDAR