BEGIN:VCALENDAR
VERSION:2.0
PRODID:-//Odpady - ECPv6.14.2//NONSGML v1.0//EN
CALSCALE:GREGORIAN
METHOD:PUBLISH
X-WR-CALNAME:Odpady
X-ORIGINAL-URL:https://odpady-online.cz
X-WR-CALDESC:Akce na Odpady
REFRESH-INTERVAL;VALUE=DURATION:PT1H
X-Robots-Tag:noindex
X-PUBLISHED-TTL:PT1H
BEGIN:VTIMEZONE
TZID:Europe/Prague
BEGIN:DAYLIGHT
TZOFFSETFROM:+0100
TZOFFSETTO:+0200
TZNAME:CEST
DTSTART:20250330T010000
END:DAYLIGHT
BEGIN:STANDARD
TZOFFSETFROM:+0200
TZOFFSETTO:+0100
TZNAME:CET
DTSTART:20251026T010000
END:STANDARD
END:VTIMEZONE
BEGIN:VEVENT
DTSTART;TZID=Europe/Prague:20250501T080000
DTEND;TZID=Europe/Prague:20250531T170000
DTSTAMP:20260420T151143
CREATED:20250124T091005Z
LAST-MODIFIED:20250124T091005Z
UID:118808-1746086400-1748710800@odpady-online.cz
SUMMARY:Sněm Združenia organizácií verejných prác
DESCRIPTION:Termín a místo budou upřesněny.
URL:https://odpady-online.cz/udalost/snem-zdruzenia-organizacii-verejnych-prac/
END:VEVENT
BEGIN:VEVENT
DTSTART;TZID=Europe/Prague:20250529T080000
DTEND;TZID=Europe/Prague:20250530T170000
DTSTAMP:20260420T151143
CREATED:20250124T100006Z
LAST-MODIFIED:20250124T100006Z
UID:118814-1748505600-1748624400@odpady-online.cz
SUMMARY:Jarní valná hromada Spolku veřejně prospěšných služeb
DESCRIPTION:
URL:https://odpady-online.cz/udalost/jarni-valna-hromada-spolku-verejne-prospesnych-sluzeb/
END:VEVENT
BEGIN:VEVENT
DTSTART;TZID=Europe/Prague:20250529T090000
DTEND;TZID=Europe/Prague:20250530T130000
DTSTAMP:20260420T151143
CREATED:20250502T173006Z
LAST-MODIFIED:20250502T173006Z
UID:119704-1748509200-1748610000@odpady-online.cz
SUMMARY:konference Samá voda ve Vodňanech
DESCRIPTION:Mimořádná konference zaměřená na kvalitu vody\, vodních ekosystémů rybníků a řek\, intenzivní a extenzivní chov ryb z pohledu praxe i legislativy. Druhý den naváže exkurzí v terénu.
URL:https://odpady-online.cz/udalost/konference-sama-voda-ve-vodnanech/
END:VEVENT
END:VCALENDAR