BEGIN:VCALENDAR
VERSION:2.0
PRODID:-//Odpady - ECPv6.14.2//NONSGML v1.0//EN
CALSCALE:GREGORIAN
METHOD:PUBLISH
X-WR-CALNAME:Odpady
X-ORIGINAL-URL:https://odpady-online.cz
X-WR-CALDESC:Akce na Odpady
REFRESH-INTERVAL;VALUE=DURATION:PT1H
X-Robots-Tag:noindex
X-PUBLISHED-TTL:PT1H
BEGIN:VTIMEZONE
TZID:Europe/Prague
BEGIN:DAYLIGHT
TZOFFSETFROM:+0100
TZOFFSETTO:+0200
TZNAME:CEST
DTSTART:20240331T010000
END:DAYLIGHT
BEGIN:STANDARD
TZOFFSETFROM:+0200
TZOFFSETTO:+0100
TZNAME:CET
DTSTART:20241027T010000
END:STANDARD
END:VTIMEZONE
BEGIN:VEVENT
DTSTART;TZID=Europe/Prague:20240901T120000
DTEND;TZID=Europe/Prague:20240930T120000
DTSTAMP:20260420T110228
CREATED:20240201T133051Z
LAST-MODIFIED:20240201T133051Z
UID:114982-1725192000-1727697600@odpady-online.cz
SUMMARY:Předváděcí akce společnosti Mouder
DESCRIPTION:Drticí a lisovací technika. \nTermín a místo budou upřesněny. \nVíce info na: info@mouder.cz
URL:https://odpady-online.cz/udalost/predvadeci-akce-spolecnosti-mouder-4/
END:VEVENT
BEGIN:VEVENT
DTSTART;TZID=Europe/Prague:20240919T083000
DTEND;TZID=Europe/Prague:20240920T163000
DTSTAMP:20260420T110228
CREATED:20240701T081006Z
LAST-MODIFIED:20240701T081006Z
UID:116717-1726734600-1726849800@odpady-online.cz
SUMMARY:Strom pro život - život pro strom 2024
DESCRIPTION:Cílem 23. ročníku Národní arboristické konference je podívat se na aktuální problematiku stromů v městském prostředí\, pokud možno z odlišných úhlů pohledu odborníků různých profesí\, obzvlášť pokud pomyslně stojí na opačných stranách barikády.
URL:https://odpady-online.cz/udalost/strom-pro-zivot-zivot-pro-strom-2024/
END:VEVENT
BEGIN:VEVENT
DTSTART;TZID=Europe/Prague:20240919T093000
DTEND;TZID=Europe/Prague:20240919T160000
DTSTAMP:20260420T110228
CREATED:20240909T084005Z
LAST-MODIFIED:20240909T084005Z
UID:117461-1726738200-1726761600@odpady-online.cz
SUMMARY:Fórum udržitelného rozvoje 2024
DESCRIPTION:Fórum udržitelného rozvoje je tradiční akcí Rady vlády pro udržitelný rozvoj\, kterou organizuje oddělení udržitelného rozvoje Ministerstva životního prostředí. Fórum je tentokrát součástí Evropského týdne udržitelného rozvoje. Letošní Fórum nese podtitul Přeměna politik - zelená\, spravedlivá\, nevyhnutelná?
URL:https://odpady-online.cz/udalost/forum-udrzitelneho-rozvoje-2024/
END:VEVENT
BEGIN:VEVENT
DTSTART;TZID=Europe/Prague:20240919T130000
DTEND;TZID=Europe/Prague:20240919T143000
DTSTAMP:20260420T110228
CREATED:20240918T090006Z
LAST-MODIFIED:20240918T090006Z
UID:117598-1726750800-1726756200@odpady-online.cz
SUMMARY:MODERNÍ MĚSTA: PRAXE STAROSTŮ II - online TV série
DESCRIPTION:Připojte se k živému online TV vysílání: MODERNÍ MĚSTA - PRAXE STAROSTŮ II\nVysílání sledujte ZDE v uvedených termínech vždy od 13:00 h. (do cca 14:30).\nSoučasně nabízíme záznamy a prezentace z jednotlivých dílů (viz přehled níže). \nCo můžete čekat?\n>> aktuální témata zejména pro starostky\, starosty a další zástupce radnic\n>> prostor pro Vaše dotazy\, náměty a zkušenosti. \nZáštitu pro vysílání poskytl ministr pro místní rozvoj\, pan Ivan Bartoš (viz video níže). \nNavazujeme na loňskou úspěšnou sérii rozhovorů z praxe Zdravých měst a dalších členů i odborných partnerů NSZM ČR.
URL:https://odpady-online.cz/udalost/moderni-mesta-praxe-starostu-ii-online-tv-serie/
END:VEVENT
END:VCALENDAR