BEGIN:VCALENDAR
VERSION:2.0
PRODID:-//Odpady - ECPv6.14.2//NONSGML v1.0//EN
CALSCALE:GREGORIAN
METHOD:PUBLISH
X-WR-CALNAME:Odpady
X-ORIGINAL-URL:https://odpady-online.cz
X-WR-CALDESC:Akce na Odpady
REFRESH-INTERVAL;VALUE=DURATION:PT1H
X-Robots-Tag:noindex
X-PUBLISHED-TTL:PT1H
BEGIN:VTIMEZONE
TZID:Europe/Prague
BEGIN:DAYLIGHT
TZOFFSETFROM:+0100
TZOFFSETTO:+0200
TZNAME:CEST
DTSTART:20240331T010000
END:DAYLIGHT
BEGIN:STANDARD
TZOFFSETFROM:+0200
TZOFFSETTO:+0100
TZNAME:CET
DTSTART:20241027T010000
END:STANDARD
END:VTIMEZONE
BEGIN:VEVENT
DTSTART;TZID=Europe/Prague:20240901T120000
DTEND;TZID=Europe/Prague:20240930T120000
DTSTAMP:20260420T110227
CREATED:20240201T133051Z
LAST-MODIFIED:20240201T133051Z
UID:114982-1725192000-1727697600@odpady-online.cz
SUMMARY:Předváděcí akce společnosti Mouder
DESCRIPTION:Drticí a lisovací technika. \nTermín a místo budou upřesněny. \nVíce info na: info@mouder.cz
URL:https://odpady-online.cz/udalost/predvadeci-akce-spolecnosti-mouder-4/
END:VEVENT
BEGIN:VEVENT
DTSTART;TZID=Europe/Prague:20240911T090000
DTEND;TZID=Europe/Prague:20240912T160000
DTSTAMP:20260420T110227
CREATED:20240201T131058Z
LAST-MODIFIED:20240201T131058Z
UID:114975-1726045200-1726156800@odpady-online.cz
SUMMARY:DEN ZEMĚDĚLCE
DESCRIPTION:CELOSTÁTNÍ KONTRAKTAČNÍ VÝSTAVA A PŘEDVÁDĚNÍ ZEMĚDELSKÉ TECHNIKY \nVíce informací naleznete na: Den Zemědělce (denzemedelce.cz)
URL:https://odpady-online.cz/udalost/den-zemedelce/
END:VEVENT
BEGIN:VEVENT
DTSTART;TZID=Europe/Prague:20240911T090000
DTEND;TZID=Europe/Prague:20240914T180000
DTSTAMP:20260420T110227
CREATED:20240201T133051Z
LAST-MODIFIED:20240201T133051Z
UID:114983-1726045200-1726336800@odpady-online.cz
SUMMARY:GaLaBau 2024
DESCRIPTION:Veletrh městské zeleně\, techniky a krajinářství.
URL:https://odpady-online.cz/udalost/galabau-2024/
END:VEVENT
BEGIN:VEVENT
DTSTART;TZID=Europe/Prague:20240912T100000
DTEND;TZID=Europe/Prague:20240912T150000
DTSTAMP:20260420T110227
CREATED:20240829T160005Z
LAST-MODIFIED:20240829T160005Z
UID:117347-1726135200-1726153200@odpady-online.cz
SUMMARY:8. Národní konference kvality a udržitelnosti
DESCRIPTION:Obsahem konference budou příspěvky týkající se ESG reportingu a udržitelného financování\, a to od předních odborníků z řad veřejné správy\, neziskových organizací a zástupců podnikatelského prostředí.
URL:https://odpady-online.cz/udalost/8-narodni-konference-kvality-a-udrzitelnosti/
END:VEVENT
END:VCALENDAR