BEGIN:VCALENDAR
VERSION:2.0
PRODID:-//Odpady - ECPv6.14.2//NONSGML v1.0//EN
CALSCALE:GREGORIAN
METHOD:PUBLISH
X-ORIGINAL-URL:https://odpady-online.cz
X-WR-CALDESC:Akce na Odpady
REFRESH-INTERVAL;VALUE=DURATION:PT1H
X-Robots-Tag:noindex
X-PUBLISHED-TTL:PT1H
BEGIN:VTIMEZONE
TZID:Europe/Prague
BEGIN:DAYLIGHT
TZOFFSETFROM:+0100
TZOFFSETTO:+0200
TZNAME:CEST
DTSTART:20240331T010000
END:DAYLIGHT
BEGIN:STANDARD
TZOFFSETFROM:+0200
TZOFFSETTO:+0100
TZNAME:CET
DTSTART:20241027T010000
END:STANDARD
END:VTIMEZONE
BEGIN:VEVENT
DTSTART;TZID=Europe/Prague:20240601T120000
DTEND;TZID=Europe/Prague:20240630T120000
DTSTAMP:20260420T110251
CREATED:20240201T100037Z
LAST-MODIFIED:20240201T100037Z
UID:114966-1717243200-1719748800@odpady-online.cz
SUMMARY:Seminář na téma dětská hřiště
DESCRIPTION:Termín a místo budou upřesněny.
URL:https://odpady-online.cz/udalost/seminar-na-tema-detska-hriste/
END:VEVENT
BEGIN:VEVENT
DTSTART;TZID=Europe/Prague:20240601T120000
DTEND;TZID=Europe/Prague:20240630T120000
DTSTAMP:20260420T110251
CREATED:20240201T100037Z
LAST-MODIFIED:20240201T100037Z
UID:114967-1717243200-1719748800@odpady-online.cz
SUMMARY:Předváděcí akce společnosti Mouder
DESCRIPTION:Drticí a lisovací technika. \nTermín a místo budou upřesněny. \nVíce info na: info@mouder.cz
URL:https://odpady-online.cz/udalost/predvadeci-akce-spolecnosti-mouder-2/
END:VEVENT
BEGIN:VEVENT
DTSTART;TZID=Europe/Prague:20240604T090000
DTEND;TZID=Europe/Prague:20240606T180000
DTSTAMP:20260420T110251
CREATED:20240201T114043Z
LAST-MODIFIED:20240201T114043Z
UID:114969-1717491600-1717696800@odpady-online.cz
SUMMARY:Urbis Smart City Fair
DESCRIPTION:Veletrh chytrých řešení pro města\, obce a kraje.
URL:https://odpady-online.cz/udalost/urbis-smart-city-fair/
END:VEVENT
BEGIN:VEVENT
DTSTART;TZID=Europe/Prague:20240605T090000
DTEND;TZID=Europe/Prague:20240606T160000
DTSTAMP:20260420T110251
CREATED:20240131T131057Z
LAST-MODIFIED:20240222T074915Z
UID:114960-1717578000-1717689600@odpady-online.cz
SUMMARY:Dny zahradní a komunální techniky
DESCRIPTION:Celostátní předváděcí a kontraktační výstava. \nVíce info na: DZKT - Den zahradní a komunální techniky
URL:https://odpady-online.cz/udalost/dny-zahradni-a-komunalni-techniky/
END:VEVENT
END:VCALENDAR